BEGIN:VCALENDAR
VERSION:2.0
PRODID:-//El Perdón - Hermandad Juvenil Del Santo Cristo Del Perdón  - ECPv5.1.6//NONSGML v1.0//EN
CALSCALE:GREGORIAN
METHOD:PUBLISH
X-WR-CALNAME:El Perdón - Hermandad Juvenil Del Santo Cristo Del Perdón 
X-ORIGINAL-URL:https://elperdon.es
X-WR-CALDESC:Eventos para El Perdón - Hermandad Juvenil Del Santo Cristo Del Perdón 
BEGIN:VTIMEZONE
TZID:Europe/Madrid
BEGIN:DAYLIGHT
TZOFFSETFROM:+0100
TZOFFSETTO:+0200
TZNAME:CEST
DTSTART:20250330T010000
END:DAYLIGHT
BEGIN:STANDARD
TZOFFSETFROM:+0200
TZOFFSETTO:+0100
TZNAME:CET
DTSTART:20251026T010000
END:STANDARD
END:VTIMEZONE
BEGIN:VEVENT
DTSTART;TZID=Europe/Madrid:20251116T190000
DTEND;TZID=Europe/Madrid:20251116T200000
DTSTAMP:20260423T064941
CREATED:20250807T104229Z
LAST-MODIFIED:20250807T104229Z
UID:3308-1763319600-1763323200@elperdon.es
SUMMARY:Misa de Hermandad
DESCRIPTION:
URL:https://elperdon.es/event/misa-de-hermandad-16/
END:VEVENT
END:VCALENDAR