BEGIN:VCALENDAR
VERSION:2.0
PRODID:-//El Perdón - Hermandad Juvenil Del Santo Cristo Del Perdón  - ECPv5.1.6//NONSGML v1.0//EN
CALSCALE:GREGORIAN
METHOD:PUBLISH
X-WR-CALNAME:El Perdón - Hermandad Juvenil Del Santo Cristo Del Perdón 
X-ORIGINAL-URL:https://elperdon.es
X-WR-CALDESC:Eventos para El Perdón - Hermandad Juvenil Del Santo Cristo Del Perdón 
BEGIN:VTIMEZONE
TZID:Europe/Madrid
BEGIN:DAYLIGHT
TZOFFSETFROM:+0100
TZOFFSETTO:+0200
TZNAME:CEST
DTSTART:20230326T010000
END:DAYLIGHT
BEGIN:STANDARD
TZOFFSETFROM:+0200
TZOFFSETTO:+0100
TZNAME:CET
DTSTART:20231029T010000
END:STANDARD
END:VTIMEZONE
BEGIN:VEVENT
DTSTART;TZID=Europe/Madrid:20230219T190000
DTEND;TZID=Europe/Madrid:20230219T200000
DTSTAMP:20260422T200815
CREATED:20230118T094919Z
LAST-MODIFIED:20230118T094919Z
UID:3067-1676833200-1676836800@elperdon.es
SUMMARY:Misa de Hermandad
DESCRIPTION:Como cada mes\, cita con nuestro Cristo y nuestros hermanos.
URL:https://elperdon.es/event/misa-de-hermandad-12/
LOCATION:Iglesia Parroquial San Ildefonso Almería\, Nuestra Señora de la las Mercedes 1\, Almería\, Almería\, 04008\, España
ATTACH;FMTTYPE=image/jpeg:https://elperdon.es/wp-content/uploads/20201101_214522.jpg
END:VEVENT
END:VCALENDAR