BEGIN:VCALENDAR
VERSION:2.0
PRODID:-//El Perdón - Hermandad Juvenil Del Santo Cristo Del Perdón  - ECPv5.1.6//NONSGML v1.0//EN
CALSCALE:GREGORIAN
METHOD:PUBLISH
X-WR-CALNAME:El Perdón - Hermandad Juvenil Del Santo Cristo Del Perdón 
X-ORIGINAL-URL:https://elperdon.es
X-WR-CALDESC:Eventos para El Perdón - Hermandad Juvenil Del Santo Cristo Del Perdón 
BEGIN:VTIMEZONE
TZID:Europe/Madrid
BEGIN:DAYLIGHT
TZOFFSETFROM:+0100
TZOFFSETTO:+0200
TZNAME:CEST
DTSTART:20260329T010000
END:DAYLIGHT
BEGIN:STANDARD
TZOFFSETFROM:+0200
TZOFFSETTO:+0100
TZNAME:CET
DTSTART:20261025T010000
END:STANDARD
END:VTIMEZONE
BEGIN:VEVENT
DTSTART;TZID=Europe/Madrid:20260224T210000
DTEND;TZID=Europe/Madrid:20260224T220000
DTSTAMP:20260423T025628
CREATED:20260115T215725Z
LAST-MODIFIED:20260115T215725Z
UID:3410-1771966800-1771970400@elperdon.es
SUMMARY:Martes del Perdón. Presentación de Carteles
DESCRIPTION:
URL:https://elperdon.es/event/martes-del-perdon-presentacion-de-carteles/
LOCATION:Iglesia Parroquial San Ildefonso Almería\, Nuestra Señora de la las Mercedes 1\, Almería\, Almería\, 04008\, España
END:VEVENT
END:VCALENDAR