BEGIN:VCALENDAR
VERSION:2.0
PRODID:-//El Perdón - Hermandad Juvenil Del Santo Cristo Del Perdón  - ECPv5.1.6//NONSGML v1.0//EN
CALSCALE:GREGORIAN
METHOD:PUBLISH
X-WR-CALNAME:El Perdón - Hermandad Juvenil Del Santo Cristo Del Perdón 
X-ORIGINAL-URL:https://elperdon.es
X-WR-CALDESC:Eventos para El Perdón - Hermandad Juvenil Del Santo Cristo Del Perdón 
BEGIN:VTIMEZONE
TZID:Europe/Madrid
BEGIN:DAYLIGHT
TZOFFSETFROM:+0100
TZOFFSETTO:+0200
TZNAME:CEST
DTSTART:20210328T010000
END:DAYLIGHT
BEGIN:STANDARD
TZOFFSETFROM:+0200
TZOFFSETTO:+0100
TZNAME:CET
DTSTART:20211031T010000
END:STANDARD
END:VTIMEZONE
BEGIN:VEVENT
DTSTART;TZID=Europe/Madrid:20211127T170000
DTEND;TZID=Europe/Madrid:20211127T190000
DTSTAMP:20260422T183422
CREATED:20211108T101255Z
LAST-MODIFIED:20211108T101255Z
UID:2909-1638032400-1638039600@elperdon.es
SUMMARY:Junta General Ordinaria
DESCRIPTION:JUNTA GENERAL ORDINARIA  en el Salón de Actos de la Parroquia\nSan José\, a las 17:00 h en primera convocatoria y a las 17:30 h en segunda\, en la\nque se tratará el siguiente Orden del Día: \n1.- Lectura y aprobación\, si procede\, del Acta de la Junta anterior.\n2.- Memoria y planificación de Secretaría.\n3.- Memoria y planificación de Tesorería.\n4.- Información sobre situación actual y futuro en los actos 2022 y Semana Santa.\n5.- Ruegos y preguntas. \nSegún nuestros Estatutos\, sólo están convocados a la Junta General\, y por tanto\ntienen voz y voto\, l@s herman@s mayores de 18 años.
URL:https://elperdon.es/event/junta-general-ordinaria/
LOCATION:Salón de Actos Parroquia de San José\, C/ Sor Policarpa\, Almería\, 04005\, España
ATTACH;FMTTYPE=image/jpeg:https://elperdon.es/wp-content/uploads/junta-general.jpg
END:VEVENT
END:VCALENDAR