BEGIN:VCALENDAR
VERSION:2.0
PRODID:-//El Perdón - Hermandad Juvenil Del Santo Cristo Del Perdón  - ECPv5.1.6//NONSGML v1.0//EN
CALSCALE:GREGORIAN
METHOD:PUBLISH
X-WR-CALNAME:El Perdón - Hermandad Juvenil Del Santo Cristo Del Perdón 
X-ORIGINAL-URL:https://elperdon.es
X-WR-CALDESC:Eventos para El Perdón - Hermandad Juvenil Del Santo Cristo Del Perdón 
BEGIN:VTIMEZONE
TZID:Europe/Madrid
BEGIN:DAYLIGHT
TZOFFSETFROM:+0100
TZOFFSETTO:+0200
TZNAME:CEST
DTSTART:20220327T010000
END:DAYLIGHT
BEGIN:STANDARD
TZOFFSETFROM:+0200
TZOFFSETTO:+0100
TZNAME:CET
DTSTART:20221030T010000
END:STANDARD
END:VTIMEZONE
BEGIN:VEVENT
DTSTART;TZID=Europe/Madrid:20220604T180000
DTEND;TZID=Europe/Madrid:20220604T200000
DTSTAMP:20260423T001616
CREATED:20220522T065722Z
LAST-MODIFIED:20220522T065822Z
UID:3008-1654365600-1654372800@elperdon.es
SUMMARY:Junta General Extraordinaria de Elecciones
DESCRIPTION:El próximo sábado 4 de junio\, todos los hermanos y hermanas de estamos llamados a votas. Toca elegir al hermano o hermana que estará al frente de la Hermandad los próximos tres años
URL:https://elperdon.es/event/junta-general-extraordinaria-de-elecciones/
LOCATION:C/ Las Cruces 29 Almería\, Las Cruces 29\, Almería\, Almería\, 04003\, España
ATTACH;FMTTYPE=image/jpeg:https://elperdon.es/wp-content/uploads/cabildo-general-de-elecciones.jpg
END:VEVENT
END:VCALENDAR